Workbook
Name _Hlk500940505: NOTES!$B$15
Name _Hlk514396494: 'Prem Order'!#REF!
Name Check11: NOTES!$A$33
Name Check12: NOTES!$A$42
Name Check16: NOTES!$A$41
Name Check2: NOTES!#REF!
Name Check3: NOTES!#REF!
Name Check4: NOTES!$A$7
Name Check5: NOTES!$A$31
Name Check6: NOTES!$A$32
Name Check8: NOTES!$A$35
Name Check9: NOTES!$A$5

Sheet Quote form 
B1: Tailgate Campers
B2: Quote/Order Form:
B4: Name: …........................................................... | D4: Date …............................
B6: Address: …...................................................................................................
B8: Email: …................................................................... | D8: Ph.1:….............................
B10: Vehicle: ............................................................ | D10: Ph.2: …..........................
C12: Standard | D12: Comfort | E12: Premium | F12: (Tick) | G12: =SUM(E13*F13) -> 0
B13: Dual Cab: 1800L x 1850W | C13: 48000 | D13: 53000 | E13: 59000
B14: Extra Cab: 2100L x 1850W | C14: 48500 | D14: 53500 | E14: 59500 | G14: =SUM(E15*F15) -> 0
B15: Single Cab 2260L x 1850W | C15: 49000 | D15: 54000 | E15: 60000 | G15: =SUM(G12:G14) -> 0
B16: Powdercoated Colour: White
B17: Powdercoated Colour: | E17: 1500 | G17: =SUM(E17*F17) -> 0
B18: Widen (W=1900mm) | E18: 600 | G18: =SUM(E19*F19) -> 0
B19: Extra Wide (W: 1975mm) | E19: 1650 | G19: =SUM(E20*F20) -> 0
B20: Custom Length 1900mm(DC) 2000mm(EC) | E20: 600
B21: Camper Total | G21: =SUM(G17:G17) -> 0
B22: Options Total- See Options List
B23: Order Total
B25: 3 Stage Payment Process | G25: Rec'd
B26: 1. Intial Deposit - Creates indicative quote and secures place in production line only * | F26: 2000
B27: ☐ I would like to order a Tailgate Camper. | C27: ( changes to order/prices can be made at this stage)
B28: ☐ I have read and agree to the terms and conditions.
B29: * Non refundable after 14 days Prices may change if there is a substantial price rise
B31: Signature/email confirmation:…................................... | D31: Date …...............
B32: 2. Finalize order:
B33: Approx 4 months prior to completion any final changes are made and prices confirmed | G33: -3
B34: ☐ I accept this quote to finalize our order | G34: =SUM(F23*0.3) -> 0
B36: 30% Deposit: Confirms and finalizes order and build commence * | E36: rounded | F36: =ROUNDDOWN(G34,G33) -> 0
B38: Signature /email confirmation : …............................... | D38: Date….................
B39: 3. Balance Due on Delivery- Estimated …..................... **
B40: ** Estimated delivery times may vary and will be confirmed as soon as possible.
F41: =SUM(F23-F26-F36) -> -2000
B43: Banking Details
B44: Tailgate Campers: BSB: 083 541 Account: 731269652 Ref: Initial and Surname
B47: TRAY MEASUREMENTS
B49: We understand some trays may not be built yet.
B50: Please provide the following measurements as soon as possible, no later than at the time of
B51: finalizing your order so that we can commence building your camper and avoid any delays
B53: Tray Length
B54: External Width ( outside to outside)
...

Sheet stand Order
B1: Standard Model
B2: Quote/Order Form:
B4: Name: …........................................................... | D4: Date …............................
B6: Address: …...................................................................................................
B8: Email: …................................................................... | D8: Ph.1:….............................
B10: Vehicle: ............................................................ | D10: Ph.2: …..........................
F12: (Tick) | G12: =SUM(E13*F13) -> 0
B13: Dual Cab : 1800L x 1850W | E13: 48000 | G13: =SUM(E13*F13) -> 0
B14: Extra Cab: 2100L x 1850W | E14: 48500 | G14: =SUM(E14*F14) -> 0
B15: Single Cab 2260L x 1850W | E15: 49000 | G15: =SUM(E15*F15) -> 0
B16: Wide (W=1900mm) | E16: 600 | G16: =SUM(E16*F16) -> 0
B17: Extra Wide (W: 1975mm) | E17: 1650 | G17: =SUM(E17*F17) -> 0
B18: Custom Length (L = 1900 or 2000mm) | E18: 600 | G18: =SUM(E18*F18) -> 0
B19: Powdercoated Colour: White | E19: 0
B20: Powdercoated Colour: from | E20: 1500 | G20: =SUM(E20*F20) -> 0
B21: Camper Total | F21: =SUM(G13:G19) -> 0 | G21: =SUM(G16:G18) -> 0
B22: Options Total- See Options List | F22: =SUM('Stand Opt'!J35) -> 0
B23: Order Total | F23: =SUM(F21:F22) -> 0
B25: 3 Stage Payment Process | G25: Rec'd
B26: 1. Intial Deposit - Creates indicative quote and secures place in production line only * | F26: 2000
B27: ☐ I would like to order a Tailgate Camper. | C27: ( changes to order/prices can be made at this stage)
B28: ☐ I have read and agree to the terms and conditions.
B29: * Non refundable after 14 days Prices may change if there is a substantial price rise
B31: Signature/email confirmation:…................................... | D31: Date …...............
B32: 2. Finalize order:
B33: Approx 4 months prior to completion any final changes are made and prices confirmed | G33: -3
B34: ☐ I accept this quote to finalize our order | G34: =SUM(F23*0.3) -> 0
B36: 30% Deposit: Confirms and finalizes order and build commence * | E36: rounded | F36: =ROUNDDOWN(G34,G33) -> 0
B38: Signature /email confirmation : …............................... | D38: Date….................
B40: 3. Balance Due on Delivery- Estimated …..................... **
B41: ** Estimated delivery times may vary and will be confirmed as soon as possible.
F42: =SUM(F23-F26-F36) -> -2000
B44: Banking Details
B45: Tailgate Campers: BSB: 083 541 Account: 731269652 Ref: Initial and Surname
B49: TRAY MEASUREMENTS
B51: We understand some trays may not be built yet.
B52: Please provide the following measurements as soon as possible, no later than at the time of
B53: finalizing your order so that we can commence building your camper and avoid any delays
B55: Tray Length
B56: External Width ( outside to outside)
...

Sheet Stand Opt
A2: Standard Model Options:
B4: ='stand Order'!B4 -> Name: …........................................................... | D4: ='stand Order'!D4 -> Date …............................
F5: see codes below
B6: Driver's Side | F6: Rfit | G6: DC | H6: (inc GST) | I6: P | J6: Total
B7: Kitchen Caddy (Containers not included) | H7: 425
B8: 2nd tilting fridge slide | H8: 550 | J8: =SUM(H8*I8) -> 0
B9: Tailgate Section | J9: =SUM(H9*I9) -> 0
B10: Slide out table | H10: 250 | J10: =SUM(H10*I10) -> 0
B11: Storage Pockets | H11: 295 | J11: =SUM(H11*I11) -> 0
B12: Bed Extension (DC only) | F12: U | G12: Y | H12: 295 | J12: =SUM(H12*I12) -> 0
B13: Mattresss | C13: Q:2030 | D13: SQ:1950 | E13: DC 1875 | J13: =SUM(H13*I13) -> 0
B14: Standard Mattress ( High Density Foam) | J14: =SUM(H14*I14) -> 0
B15: Electrical Components: | J15: =SUM(H15*I15) -> 0
B16: Upgrade to Power Pack 100L | H16: 1550 | J16: =SUM(H16*I16) -> 0
B17: Instant LPG Shower unit- on slide with pump and guard. | H17: 895 | J17: =SUM(H17*I17) -> 0
B18: LED strip light – Kitchen Outward facing - Yellow/white | H18: 150 | J18: =SUM(H18*I18) -> 0
B19: Personal Fan- Safety Dave | H19: 295 | J19: =SUM(H19*I19) -> 0
B20: LED Bedroom reading lights with USB socket (2) | H20: 235 | J20: =SUM(H20*I20) -> 0
B21: Upright Fridge upgrade (Bushman 65L) | C21: inc battery relocation | H21: 1350 | J21: =SUM(H21*I21) -> 0
B22: Webasto Diesel Heater | H22: 2800 | J22: =SUM(H22*I22) -> 0
B23: External | J23: =SUM(H23*I23) -> 0
B24: Mounting reinforcement plates (x4) - Required for Aluminium Tray | H24: 160
B25: 2nd Gas Bottle Bracket (RHS) | H25: 250
B26: Garbage Bag | H26: 175
B27: Canvas Options
B28: Shower tent on Driver's side Door | H28: 495 | J28: =SUM(H28*I28) -> 0
B29: Kitchen door quick awning | H29: 250 | J29: =SUM(H29*I29) -> 0
B30: Rear Window Tropical Awning | H30: 320 | J30: =SUM(H30*I30) -> 0
B31: Awning | F31: U | H31: 1200 | J31: =SUM(H31*I31) -> 0
D32: 1 | E32: 2 | F32: 3 | G32: 4 | J32: =SUM(H32*I32) -> 0
B33: Walls | H33: 320 | J33: =SUM(H33*I33) -> 0
B34: Draft Skirt (polyweave) | H34: 350 | J34: =SUM(H34*I34) -> 0
A35: U | B35: Total Options Cost | J35: =SUM(J7:J34) -> 0
A36: DC | B36: Cannot be retrofitted or Substantially extra cost
A37: Y | B37: Dual Cab version
B38: Dual Cab Only
B41: cab side
B44: Office use only
B45: ='stand Order'!B4 -> Name: …...........................................................
A46: Camper
...

Sheet Standard PL New
A1: =#REF! -> #REF! | D1: =#REF! -> #REF!
A2: ITEM | B2: QTY | C2: bay | D2: ITEM | E2: QTY | F2: ü
A3: Hardware | D3: Electrical | H3: s = stock on shelf
A4: Ball Studs Extended T&A | B4: 2 | C4: S | D4: Anderson Plug (grey) | E4: 3 | F4: 4 | H4: Bays picked separately
A5: Cable - Tailgate (790mm) | B5: 2 | C5: 3 | D5: Charger 240V IC1500 | E5: 1 | F5: 3
A6: Cable - Tailgate Suspension | B6: 2 | C6: 4 | D6: Fuse box - 12way | E6: 1
A7: Catch - Ladder Rack (F) Rubber | B7: 1 | C7: f | D7: Black Insulated Post | E7: 1
A8: Catch - Ladder Rack (M) Rubber | B8: 1 | C8: 5 | D8: Red Insulated Post | E8: =SUM(1+#REF!+#REF!) -> #REF!
A9: Catch - Pole Storage Box | B9: 1 | D9: Batt Box & Strap | E9: =IF(#REF!=1,"0","1") -> #REF!
A10: Catch- Mini, Stove | B10: 1 | D10: Plastic Corner Savers | E10: 6
A11: Catch- Mini, Wardrobe | B11: 1 | D11: Bus Bar | E11: 2
A12: Catch Plates - Door | B12: 4 | D12: ACC Socket | E12: 1
A13: Clevis - Tailgate Suspension silver | B13: 2 | C13: 4 | D13: Light -Swivel White light 250mm | E13: 1
A14: Door Handle Plates | B14: 4 | C14: 4 | D14: Light -260mm LED Light | E14: 2
A15: Door Locks | B15: 4 | C15: 4 | D15: Light -510mm LED Light | E15: 1
A16: Eyenut - Tailgate M8 S/S | B16: 4 | D16: Reflectors | E16: 2
A17: Handles Black | B17: =SUM(4+#REF!*4+#REF!+#REF!) -> #REF! | C17: 1 | D17: Maxifuse Holder | E17: 1
A18: Handrail Cap 32mm | B18: 1 | D18: Maxifuse 60A | E18: 1
A19: Hinge - Tent Frame | B19: 2 | D19: Switch Door Light | E19: 2
A20: Hinge - Tent Frame to Roof | B20: 2 | D20: Tent pole box latch | E20: 1
A21: Hinges - Fridge 40mm | B21: 2 | D21: Eye Terminals 1st 6mm | E21: 10
A22: Hinges - Ladder | B22: 2 | D22: Tailgate Pins - S bracket | E22: 4
A23: Hinges - Sink/Drainer 40mm | B23: 2 | D23: Door Alarm - Buzzer | E23: 1
A24: Hinges - Stove/Sink 75mm | B24: 2 | D24: Door Alarm - switch mercury | E24: 1
A25: Internal Ladder Rollers | B25: 2 | D25: Black strut rubber (+1 2nd Fridge Slide) | E25: 1
A26: Drawers | B26: 2 | D26: Water Pump | E26: 1
A27: OJOP - Handrail & Hook | B27: 1 | D27: Water Filter | E27: 1
A28: OJOP - Roof & Hook | B28: 2 | D28: Parking Point (Stove) | E28: 1
A29: OJOP - Tailgate & Hook | B29: 2 | D29: Faucet Bush * New Camper | E29: 1
... A40: Stove | B40: 1 | D40: Keys | E40: 1
A41: LPG POL Regulator | B41: 1 | D41: Other - (fitout pick)
A42: LPG Hose 1000 & Parking point | B42: 1 | D42: Decals (door) | E42: 2
A43: Brass Nipple - Stove | B43: 1 | D43: Logo (Roof/Tailgate) | E43: =SUM(2-#REF!) -> #REF!
A44: Coupling - Quick Connect (Stove) | B44: 1 | D44: Tent | E44: 1
A45: PLUMBING
A46: Water Tank 75l | B46: 1
A47: faucet (cold) | B47: 1
A74: Bay 1 | D74: Bay 4 | G74: Bay 1 stock
G85: Bay 2 Stock
A89: Bay 2 | D89: bay 5
...

Sheet  Standard Opt PL
B2: ITEM | D2: QTY | E2: ü
B3: Deluxe Safe
B4: Foam Mattress S | C4: =IF(#REF!=1,"2030",IF(#REF!=1,"1950",IF(#REF!=1,"1875",0))) -> #REF!
B5: Plush Mattress C/P | C5: =IF(#REF!=1,"2030",IF(#REF!=1,"1950",IF(#REF!=1,"1875",0))) -> #REF! | D5: 1
B6: Ultimate Mattress | C6: =IF(#REF!=1,"2030",IF(#REF!=1,"1950",IF(#REF!=1,"1875",0))) -> #REF!
B7: Solar Panels 2x Flexi 175W S/C or 215W C/P
B8: Solar Controller
B9: Battery Monitor 100s S/C/P or 400s P
B10: DC-DC charger Lithium 25L/ 25X /60 S/C/P
B11: Smarttek S/C/P Duoetto P Hydronic P
B12: LED Bedroom reading lights (2) USB | C12: S/C/P
B13: LED Strip Light - Dimmable P x 3 | C13: Lrg x 1 sm x 2
B14: LED strip light – Yellow/white S/C | C14: lrg x 1 smx 2
A15: 5000-10002 | B15: Safety Dave Fan | C15: S/C/P
B16: Socket -Accessory | C16: S/C/P
B17: Socket -USB Double | C17: S/C/P
A18: 81168/25 | B18: Socket Double
B19: Inverter: 600W, 1000W, 2000W, 3000W
A20: KTHTA01-1OUTW12V | B20: Diesel Space heater -Webasto - cut pipe S/C/P
B21: Lithium Battery 100s/170ah/200/300
A22: MKII or Extreme | B22: Max Trax Mounting pins (check brand) + 2 ladder locks
B23: Garbage bag + Bungee hoops & loops
B24: 2nd Gas Bottle Bracket
B25: Mounting Reinforcement plates
A26: 136 | B26: Pegs
A27: 1101TLALS | B27: Tent poles lrg
A28: GR6SPRLS | B28: Ropes
B29: Travel Buddy & Grey Anderson plug
B30: P Clip 3/8
A31: 2580519 | B31: Plastic Drawers
B32: Anderson Plug - grey
B33: Battery Charger Lithium 15/25/50
B34: Red Anderson Plug for external solar panel & cover
B35: Bed Extention - 2 bungee hoops & loops & 3 Hinges 50mm & 2 x toggles
B36: Quick Awning - 2 x press studs
B37: Shower - 4 x bungee hoops & loops
B38: Uright bushman fridge 65L or 85L or 35L C/P
B39: Drafts skirt - 8 x press studs
B40: Folding Sink P
B41: 2 way soft lights 2x white light 3 x on on switch P
...

Sheet ComfortOrder
B1: Comfort Model
B2: Quote/Order Form:
B4: Name: …............................................................... | D4: Date: ….........................
B6: Address: …........................................................................................................
B8: Email: …....................................................... | D8: Ph.1: …................................
B10: Vehicle: …................................................. | D10: Ph.2: …..........................
B12: Model:
B13: Standard Sizes | F13: (Tick)
B14: Dual Cab : 1800L x 1850W | E14: 53000 | G14: =SUM(E14*F14) -> 0
B15: Extra Cab: 2100L x 1850W | E15: 53500 | G15: =SUM(E15*F15) -> 0
B16: Single Cab 2260L x 1850W | E16: 54000 | G16: =SUM(E16*F16) -> 0
B17: Custom Sizes | E17: Price
B18: Wide (W=1900mm) | E18: 600 | G18: =SUM(E18*F18) -> 0
B19: Extra Wide (W: 1975mm) | E19: 1650 | G19: =SUM(E19*F19) -> 0
B20: Length (L = 1900 or 2000mm) | E20: 600 | G20: =SUM(E20*F20) -> 0
B21: Powdercoated Colour: White | E21: 0
B22: Powdercoated Colour: from | E22: 1500 | G22: =SUM(E19*F19) -> 0
G23: =SUM(G20:G22) -> 0
B24: Camper Total | F24: =SUM(G14:G19) -> 0 | G24: =SUM(G18:G22) -> 0
B25: Options Total- See Options List | F25: =SUM('Comfort opt'!J41) -> 0
B27: Order Total | F27: =SUM(F24:F25) -> 0
B29: 3 Stage Payment Process | G29: Rec'd
B30: 1. Intial Deposit - Creates indicative quote and secures place in production line only * | F30: 2000
B31: ☐ I would like to order a Tailgate Camper. | C31: ( changes to order/prices can be made at this stage)
B32: ☐ I have read and agree to the terms and conditions.
B33: * Non refundable after 14 days Prices may change if there is a substantial price rise
B35: Signature/email confirmation:…................................... | D35: Date …...............
B36: 2. Finalize order:
B37: Approx 4 months prior to completion any final changes are made and prices confirmed | G37: -3
B38: ☐ I accept this quote to finalize our order | G38: =SUM(F27*0.3) -> 0
B40: 30% Deposit: Confirms and finalizes order and build commence * | E40: rounded | F40: =ROUNDDOWN(G38,G37) -> 0
B42: Signature /email confirmation : …............................... | D42: Date….................
B44: 3. Balance Due on Delivery- Estimated …..................... **
B45: ** Estimated delivery times may vary and will be confirmed as soon as possible.
F46: =SUM(F27-F30-F40) -> -2000
B48: Banking Details
B49: Tailgate Campers: BSB: 083 541 Account: 731269652 Ref: Initial and Surname
B53: TRAY MEASUREMENTS
B55: We understand some trays may not be built yet.
B56: Please provide the following measurements as soon as possible, no later than at the time of
...

Sheet Comfort opt
A2: Comfort Model Options:
B4: =ComfortOrder!B4 -> Name: …............................................................... | D4: =ComfortOrder!D4 -> Date: ….........................
F6: see codes below
B7: Drivers Side ( RHS) | F7: Rfit | G7: DC | H7: (inc GST) | I7: P | J7: Total
B8: Tool Drawer | F8: U | H8: 735 | J8: =SUM(H8*I8) -> 0
B9: 2nd tilting fridge slide | H9: 595 | J9: =SUM(H9*I9) -> 0
B10: Shelf above tool drawer | H10: 245 | J10: =SUM(H10*I10) -> 0
B11: Kitchen Side (LHS)
B12: Kitchen Caddy (Containers not included) | H12: 425 | J12: =SUM(H12*I12) -> 0
B13: LED Insect Light ( White/Yellow) outward facing | H13: 130 | J13: =SUM(H13*I13) -> 0
B14: Tailgate Section
B15: Bed Extension (DC only) | F15: U | G15: Y | H15: 295 | J15: =SUM(H15*I15) -> 0
B16: Bed head (XC only) with Shorter mattress (1950mm) | F16: U | G16: N | H16: 225 | J16: =SUM(H16*I16) -> 0
B17: Storage Pockets | H17: 128 | J17: =SUM(H17*I17) -> 0
B18: USB Socket ( Double) | H18: 125 | J18: =SUM(H18*I18) -> 0
B19: Mattresss | C19: Q:2030 | D19: SQ:1950 | E19: DC 1875
B20: Innerspring Ultimate P/Top ( 160mm) | H20: 250 | J20: =SUM(H20*I20) -> 0
B21: Electrical Components:
B22: Webasto Diesel Heater | H22: 2800 | J22: =SUM(H22*I22) -> 0
B23: Instant LPG Shower unit- on slide with pump and guard. | H23: 850 | J23: =SUM(H23*I23) -> 0
B24: Pure Sinewave Inverter 600W | H24: 500
B25: Upgrade to PP180L | H25: 1400
B26: Pure Sinewave Inverter Upgrade to 1500W (PP180L only) | H26: 750
B27: Upright Fridge upgrade (Bushman 65L) | C27: inc battery relocation | H27: 1350 | J27: =SUM(H27*I27) -> 0
B28: Travel Buddy (large) | H28: 480
B29: External
B30: Mounting reinforcement plates (x4) - Req for Aluminium Trays | H30: 160 | J30: =SUM(H30*I30) -> 0
B31: Double locking Handles | H31: 360
B32: Front checker plate panel | F32: U | H32: 125 | J32: =SUM(H32*I32) -> 0
B33: Firewood rack | H33: 425 | J33: =SUM(H33*I33) -> 0
B34: Firewood rack / built-in traction board carrier Brand: …........................ | F34: U | G34: N | H34: 600 | J34: =SUM(H34*I34) -> 0
B35: 2nd Gas Bottle Bracket (RHS) | H35: 250 | J35: =SUM(H35*I35) -> 0
B36: 2nd Garbage Bag | H36: 175 | J36: =SUM(H36*I36) -> 0
B37: Options | J37: =SUM(J8:J36) -> 0
B38: Custom Build Options transferred from pg 2 | J38: =SUM(J66) -> 0
B39: Canvas/Tent Options transferred from pg 2 | J39: =SUM(J84) -> 0
B41: Total Options Cost | J41: =SUM(J36:J38) -> 0
A43: U | B43: Cannot be retrofitted or Substantially extra cost | D43: N | E43: Not available for this version
A44: DC | B44: Dual Cab version | D44: Y | E44: This version only
A46: Note: | B46: This list includes popular options only
...

Sheet Comfort PL
A1: 332 E21-P | D1: Gross / Maskay
A2: ITEM | B2: QTY | C2: ü | D2: ITEM | E2: QTY | F2: ü
A3: Hardware | D3: Electrical
A4: Ball Studs Extended T&A | B4: 2 | D4: Anderson Plug (grey) | E4: 3
A5: Cable - Tailgate (790mm) | B5: 2 | D5: Charger 240V IC1500 | E5: =SUM(1-#REF!-#REF!) -> #REF!
A6: Cable - Tailgate Suspension | B6: 2 | D6: Fuse box - 12way | E6: 1
A7: Catch - Ladder Rack (F) Rubber | B7: 1 | D7: Black Insulated Post | E7: 1
A8: Catch - Ladder Rack (M) Rubber | B8: 1 | D8: Red Insulated Post | E8: =SUM(1+#REF!+#REF!) -> #REF!
A9: Catch - Pole Storage Box | B9: 1 | D9: Batt Box & Strap | E9: =IF(#REF!=1,"0","1") -> #REF!
A10: Catch- Mini, Stove | B10: 1 | D10: Plastic Corner Savers | E10: 6
A11: Catch- Mini, Wardrobe | B11: 1 | D11: Bus Bar | E11: 2
A12: Catch Plates - Door | B12: 4 | D12: ACC Socket | E12: 1
A13: Clevis - Tailgate Suspension silver | B13: 2 | D13: Light -Swivel White light 250mm | E13: 1
A14: Door Handle Plates | B14: 4 | D14: Light -260mm LED Light | E14: 2
A15: Door Locks | B15: 4 | D15: Light -510mm LED Light | E15: 1
A16: Eyenut - Tailgate M8 S/S | B16: 4 | D16: Reflectors | E16: 2
A17: Handles Black | B17: =SUM(4+#REF!*4+#REF!+#REF!) -> #REF! | D17: Maxifuse Holder | E17: 1
A18: Handrail Cap 32mm | B18: 1 | D18: Maxifuse 60A | E18: 1
A19: Hinge - Tent Frame | B19: 2 | D19: Switch Door Light | E19: 2
A20: Hinge - Tent Frame to Roof | B20: 2 | D20: Tent pole box latch | E20: 1
A21: Hinges - Fridge 40mm | B21: 2 | D21: Eye Terminals 1st 6mm | E21: 10
A22: Hinges - Ladder | B22: 2 | D22: Tailgate Pins - S bracket | E22: 4
A23: Hinges - Sink/Drainer 40mm | B23: 2 | D23: Door Alarm - Buzzer | E23: 1
A24: Hinges - Stove/Sink 75mm | B24: 2 | D24: Door Alarm - switch mercury | E24: 1
A25: Internal Ladder Rollers | B25: 2 | D25: Black strut rubber (+1 2nd Fridge Slide) | E25: 1
A26: Drawers | B26: 2 | D26: Water Pump | E26: 1
A27: OJOP - Handrail & Hook | B27: 1 | D27: Water Filter | E27: 1
A28: OJOP - Roof & Hook | B28: 2 | D28: Parking Point (Stove) | E28: 1
A29: OJOP - Tailgate & Hook | B29: 2 | D29: Faucet Bush * New Camper | E29: 1
... A40: Stove | B40: 1 | D40: Keys | E40: 1
A41: LPG POL Regulator | B41: 1 | D41: Other - (fitout pick)
A42: LPG Hose 1000 & Parking point | B42: 1 | D42: Decals (door) | E42: 2
A43: Brass Nipple - Stove | B43: 1 | D43: Logo (Roof/Tailgate) | E43: =SUM(2-#REF!) -> #REF!
A44: Coupling - Quick Connect (Stove) | B44: 1 | D44: Tent | E44: 1
A45: PLUMBING
A46: Water Tank 75l | B46: 1
A47: faucet (cold) | B47: 1

Sheet Comfort Opt PL
B2: ITEM | D2: QTY | E2: ü
B3: Deluxe Safe
B4: Foam Mattress S | C4: =IF(#REF!=1,"2030",IF(#REF!=1,"1950",IF(#REF!=1,"1875",0))) -> #REF!
B5: Plush Mattress C/P | C5: =IF(#REF!=1,"2030",IF(#REF!=1,"1950",IF(#REF!=1,"1875",0))) -> #REF! | D5: 1
B6: Ultimate Mattress | C6: =IF(#REF!=1,"2030",IF(#REF!=1,"1950",IF(#REF!=1,"1875",0))) -> #REF!
B7: Solar Panels 2x Flexi 175W S/C or 215W C/P
B8: Solar Controller
B9: Battery Monitor 100s S/C/P or 400s P
B10: DC-DC charger Lithium 25L/ 25X /60 S/C/P
B11: Smarttek S/C/P Hose, shower head, holder
B12: LED Bedroom reading lights (2) USB | C12: S/C/P
B14: LED strip light – Yellow/white S/C | C14: lrg x 2 smx 2
A15: 5000-10002 | B15: Safety Dave Fan | C15: S/C/P
B16: Socket -Accessory | C16: S/C/P
B17: Socket -USB Double | C17: S/C/P
A18: 81168/25 | B18: Socket Double
B19: Inverter: 600W, 1000W, 2000W, 3000W
A20: KTHTA01-1OUTW12V | B20: Diesel Space heater -Webasto - cut pipe S/C/P
B21: Lithium Battery 100s/170ah/200/300
A22: MKII or Extreme | B22: Max Trax Mounting pins (check brand) + 2 ladder locks
B23: Garbage bag + Bungee hoops & loops
B24: 2nd Gas Bottle Bracket
B25: Mounting Reinforcement plates
A26: 136 | B26: Pegs
A27: 1101TLALS | B27: Tent poles lrg
A28: GR6SPRLS | B28: Ropes
B29: Travel Buddy & Grey Anderson plug
B30: P Clip 3/8
A31: 2580519 | B31: Plastic Drawers
B32: Anderson Plug - grey
B33: Battery Charger Lithium 15/25/50
B34: Red Anderson Plug for external solar panel & cover
B35: Bed Extention - 2 bungee hoops & loops & 3 Hinges 50mm & 2 x toggles
B36: Quick Awning - 2 x press studs
B37: Shower - 4 x bungee hoops & loops
B38: Uright bushman fridge 65L or 85L or 35L C/P
B39: Drafts skirt - 8 x press studs
B40: Folding Sink P
B41: 2 way soft lights 2x white light 3 x on on switch P
B42: storage pockets S/C/P
...

Sheet Prem Order
B1: Premium Model
B2: Quote/Order Form:
B4: Name:…................................................................. | D4: Date: ….....................
B6: Address: …........................................................................................................
B8: Email:…......................................................... | D8: Ph.1: …......................
B9: Email 2: …................................... | D9: Ph.2: …..........................
B10: Vehicle: ….................................................
B12: Model: | C12: =C22 -> 0
B13: Standard Sizes | F13: (Tick)
B14: Dual Cab : 1800L x 1850W | E14: 59000 | G14: =SUM(E14*F14) -> 0
B15: Extra Cab: 2100L x 1850W | E15: 59500 | G15: =SUM(E15*F15) -> 0
B16: Single Cab 2260L x 1850W | E16: 60000 | G16: =SUM(E16*F16) -> 0
B17: Custom Sizes | E17: Price | F17: (Tick)
B18: Wide (W=1900mm) | E18: 600 | G18: =SUM(E18*F18) -> 0
B19: Extra Wide (W: 1975mm) | E19: 1650 | G19: =SUM(E19*F19) -> 0
B20: Length | E20: 600 | G20: =SUM(E20*F20) -> 0
B21: Powdercoated Colour: White | C21: 1900 | D21: 2000 | E21: 0
B22: Powdercoated Colour: From 1500 from | G22: =SUM(E22*F22) -> 0
B23: Camper Total | F23: =SUM(G14:G22) -> 0 | G23: =SUM(G18:G22) -> 0
B24: Options Total- See Options List | F24: ='Premium Opt'!J47 -> 0
B25: Accessories - See Accessories Page | F25: =SUM(Accessories!H37) -> 0
B26: Order Total | F26: =SUM(F23:F25) -> 0
B28: 3 Stage Payment Process | G28: Rec'd
B29: 1. Intial Deposit - Creates indicative quote and secures place in production line only * | F29: 2000
B30: ☐ I would like to order a Tailgate Camper
B31: ☐ I have read and agree to the terms and conditions.
B32: * Non refundable after 14 days Prices may change if there is a substantial price rise
B33: Changes to order/prices can be made prior to finalizing order
B34: Signature/email confirmation: | D34: Date
B35: 2. Finalize order:
B36: Approx 4 months prior to completion any final changes are made and prices confirmed | G36: -3
B37: ☐ I accept this quote to finalize our order | G37: =SUM(F26*0.3) -> 0
B39: 30% Deposit: Confirms and finalizes order and build commence | E39: rounded | F39: =ROUNDDOWN(G37,G36) -> 0
B41: Signature /email confirmation : …................................. | D41: Date….................
B44: 3. Balance Due on Delivery- Estimated …..................... **
B45: ** Estimated delivery times may vary and will be confirmed as soon as possible.
F46: =SUM(F26-F29-F39) -> -2000
B48: Banking Details
B49: Tailgate Campers: BSB: 083 541 Account: 731269652 Ref: Initial and Surname
B53: TRAY MEASUREMENTS
...

Sheet Premium Opt
B1: Premium Model Options
B3: ='Prem Order'!B4 -> Name:…................................................................. | E3: ='Prem Order'!D4 -> Date: ….....................
F5: see codes below
B6: Driver's Side | F6: Rfit | G6: DC | H6: (inc GST) | I6: P | J6: Total
B7: Tool Drawer | F7: U | H7: 735 | J7: =SUM(H7*I7) -> 0
B8: 2nd tilting fridge slide (driver's side) | H8: 595 | J8: =SUM(H8*I8) -> 0
B9: Kitchen Side | F9: Rfit | G9: DC | H9: (inc GST) | I9: P | J9: Total
B10: Kitchen Caddy (Containers not included) | H10: 425 | J10: =SUM(H10*I10) -> 0
B11: Shelf Slider: Pantry Drawer | H11: 195 | J11: =SUM(H11*I11) -> 0
B12: Shelf Slider: Tool Drawer | H12: 195 | J12: =SUM(H12*I12) -> 0
B13: Stove Cover plate ( Eno) | H13: 225 | J13: =SUM(H13*I13) -> 0
B14: Tailgate Section
B15: Bed Extension (DC only) | F15: U | G15: Y | H15: 295 | J15: =SUM(H15*I15) -> 0
B16: Bed head (XC only) with Shorter mattress (1950mm) | F16: U | G16: N | H16: 225 | J16: =SUM(H16*I16) -> 0
B17: Porta Potti Slide (for Thetford 345) | H17: 350 | J17: =SUM(H17*I17) -> 0
B18: Mattresss | C18: Q:2030 | D18: SQ:1950 | E18: DC 1875
B19: Innerspring Ultimate P/Top ( 160mm) | H19: 150 | J19: =SUM(H19*I19) -> 0
B20: Electrical Components:
B21: Instant Shower unit (smartek) on slide with pump and guard. | H21: 895 | J21: =SUM(H21*I21) -> 0
B22: Hydronic Diesel Heater & Hot water (sink/shower) Opt 1,2 or 3 | F22: U | H22: 5800 | J22: =SUM(H22*I22) -> 0
B23: Duoetto shower and hot water to sink | F23: U | H23: 1800 | J23: =SUM(H23*I23) -> 0
B24: Webasto Diesel Heater | H24: 2800 | J24: =SUM(H24*I24) -> 0
B25: Water Selector Tap ( For customer supplied 2nd ext. water source with pump) | H25: 475 | J25: =SUM(H25*I25) -> 0
B26: Inverter upgrade 2000W | H26: 800 | J26: =SUM(H26*I26) -> 0
B27: Upgrade to PP350L | H27: 1600 | J27: =SUM(H27*I27) -> 0
B28: Pure Sinewave Inverter 3000W (PP340L req) | H28: 1400 | J28: =SUM(H28*I28) -> 0
B29: Hybrid Stove - 1x Induction/2x Gas hotplates ( Req 2000W) | H29: 600 | J29: =SUM(H29*I29) -> 0
B30: Induction Cooktop Twin induction (Req 3000W) | H30: n/c
B31: Anderson plug for Ext. Solar Blanket | C31: Reg | D31: Unreg | H31: 140 | J31: =SUM(H31*I31) -> 0
B32: Accessory socket | H32: 125 | J32: =SUM(H32*I32) -> 0
B33: Power Points x2 ( min 2000W) | H33: 850 | J33: =SUM(H33*I33) -> 0
B34: External 240V Power 2x Power Points ( min. 2000W ) | F34: U | H34: 1350 | J34: =SUM(H34*I34) -> 0
B35: External
B36: Mounting reinforcement plates (x4) - Aluminium Tray Only | H36: 160 | J36: =SUM(H36*I36) -> 0
B37: Front checker plate panel | F37: U | H37: 150 | J37: =SUM(H37*I37) -> 0
B38: Firewood rack | H38: 425 | J38: =SUM(H38*I38) -> 0
B39: Firewood rack / 'MaxTrax' carrier Brand/Model: …........................ | F39: U | G39: N | H39: 600 | J39: =SUM(H39*I39) -> 0
B40: 2nd Gas Bottle Bracket | H40: 250 | J40: =SUM(H40*I40) -> 0
B41: 2nd Garbage Bag | H41: 175 | J41: =SUM(H41*I41) -> 0
B42: 2nd Personal Fan- Safety Dave | H42: 275 | J42: =SUM(H42*I42) -> 0
...

Sheet Prem Opt PL
A1: 332 | B1: Gross / Mackay | D1: E21-P
B2: ITEM | D2: QTY | E2: ü
B3: Deluxe Safe
B4: Foam Mattress S
B5: Plush Mattress C/P
B6: Ultimate Mattress | C6: 1950 | D6: 1
B7: Solar Panels 215W C/P | D7: 215
B8: Solar Controller
B9: Battery Monitor 100s S/C/P or 400s P | D9: 400
B10: DC-DC charger Lithium 25L/ 25X /60 S/C/P | D10: 50x
B11: Smarttek S/C/P Duoetto P Hydronic P
B12: LED Bedroom reading lights (2) USB | C12: S/C/P | D12: 2
B13: LED Strip Light - Dimmable P x 3 | C13: Lrg x 1 sm x 2 | D13: 3
B14: LED strip light – Yellow/white S/C | C14: lrg x 1 | D14: 1
A15: 5000-10002 | B15: Safety Dave Fan | C15: S/C/P | D15: 1
B16: Socket -Accessory | C16: S/C/P | D16: 1
B17: Socket -USB Double | C17: S/C/P | D17: 2
A18: 81168/25 | B18: Socket Double
B19: Inverter: 600W, 1000W, 2000W, 3000W | D19: 3000
A20: KTHTA01-1OUTW12V | B20: Diesel Space heater -Webasto - cut pipe S/C/P
B21: Lithium Battery 100s/170ah/200/300 | D21: 340
A22: MKII or Extreme | B22: Max Trax Mounting pins (check brand) + 2 ladder locks | D22: MKII
B23: Garbage bag + Bungee hoops & loops | D23: 1
B24: 2nd Gas Bottle Bracket
B25: Mounting Reinforcement plates | D25: 4
A26: 136 | B26: Pegs
A27: 1101TLALS | B27: Tent poles lrg
A28: GR6SPRLS | B28: Ropes
B29: Travel Buddy & Grey Anderson plug | D29: 1
B30: P Clip 3/8
A31: 2580519 | B31: Plastic Drawers | D31: 1
B32: Anderson Plug - grey
B33: Battery Charger Lithium 15/25/50 | D33: 50
B34: Red Anderson Plug for external solar panel & cover
B35: Bed Extention - 2 bungee hoops & loops & 3 Hinges 50mm & 2 x toggles
B36: Quick Awning - 2 x press studs | D36: 1
B37: Shower - 4 x bungee hoops & loops | D37: 1
B38: Uright bushman fridge 65L or 85L or 35L C/P | D38: 65-30
B39: Drafts skirt - 8 x press studs | D39: 1
B40: Folding Sink P | D40: 1
...

Sheet NOTES
A1: Names: | B1: No. | C1: Colour: | D1: Pod ordered: | E1: Date | F1: Notes: Header: Em. or P/c | G1: Completed
A2: Phone: | B2: Model: | D2: Tray ordered: | E2: 36892 | F2: P/C Options: add Tool drawer, remove wall 3 | G2: y
A3: Email: | B3: Tick / PD/Date | C3: Components Check
A4: 2. Quote Sent inc T & C | C4: Tray Size | D4: GVM
A5: Order form signed | C5: Tray Photo's
A6: Intial Deposit received | C6: Reinforcing plates
A7: Initial Deposit receiptSent | C7: Maxtrax Pins
A8: 3. Welcome letter/accessory list sent/ Prep | C8: Diesel Straw
A9: Estimated month of delivery | C9: Aux Diesel Tank
A10: 4 Progress report - when to sent- earlier? what info | C10: Wiring
A11: Another? We are on track for … Or different? | C11: Fridge fitting /Straps
A12: 5. Final check email
A13: Final Order form signed
A14: Invoices and Statement sent
A15: 30% Payment made
A16: Paperwork for Floor completed
A17: Orders for suppliers/ Canvas Done
A18: Slide out Caddy info sent
A19: Fitment info sent
A20: 6. Fitout letter/checklist sent | F20: Pod/Tray notes
A21: Serial No sent
A22: Final Statement sent
A23: Fit out date
A24: Followup

Sheet Accessories
B2: Accessories Order Form:
B4: ='Prem Order'!B4 -> Name:…................................................................. | F4: ='Prem Order'!D4 -> Date: ….....................
B6: Accessories | F6: $ inc GST | G6: P | H6: Total
B7: Travel Buddy (large) fitted | F7: 480 | H7: =SUM(F7*G7) -> 0 | P7: 295
B8: Clear View Mirror price varies for each vehicle please inquire | F8: TBC
B9: TGC Pod Please ask for specs from | F9: 5995
B10: ISI Bike Rack: TGC custom built (inclgas strut lift assist and lock down) | F10: 1950 | I10: 15.5
B11: ISI Bike Light/plate kit | F11: 395
B12: Safety Dave Camera -fitted | C12: Hardwired | F12: 595
B13: Max Trax Recovery Boards -Light (4kg) for lighter 4 x 4 vehicles | F13: 160
B14: Max Trax Recovery Boards - MKII (7kg) | F14: 280
B15: Max Trax Pins - MKII or Extreme | F15: 48 | H15: =SUM(F15*G15) -> 0
B16: Fridge Straps | F16: 30
B17: Fridge Bushman 35L-52L Fitting Extra Cost | F17: 1450 | H17: =SUM(F18*G17) -> 0
B18: Fridge Bushman 30L drawer fridge | F18: 1480
B19: Floor Matting - 3.0 x 2.5 | F19: 75 | H19: =SUM(F19*G19) -> 0
B20: Floor matting - 4.5 x 2.5 | F20: 90 | H20: =SUM(F20*G20) -> 0
B21: Induction Pots Camec Spacesaver | F21: 120
B22: Induction Pots - Morgs Honeycomb | F22: 249
B23: Thetford Porta Potti 345 (12l ) Suits Toilet slide | F23: 160 | H23: =SUM(F23*G23) -> 0
B24: Thetford Bipot 365 (21L.) | F24: 195 | H24: =SUM(F24*G24) -> 0
B25: Thetford Aqua Blue | F25: 25 | H25: =SUM(F25*G25) -> 0
B26: Thetford Aqua Rinse | F26: 20 | H26: =SUM(F26*G26) -> 0
B27: Solbio - Organic Toilet Fluid | F27: 55 | H27: =SUM(F27*G27) -> 0
B28: Submersible Pump | F28: 125 | H28: =SUM(F28*G28) -> 0
B29: Plastic wash basin | F29: 10 | H29: =SUM(F29*G29) -> 0 | I29: 3
B30: Pop Up sink | F30: 28 | H30: =SUM(F30*G30) -> 0
B31: Caravan steps | F31: 65 | H31: =SUM(F31*G31) -> 0
B32: Caravan steps adjustable legs | F32: 80 | H32: =SUM(F32*G32) -> 0
B33: Sand Pegs | F33: 3 | H33: =SUM(F33*G33) -> 0
B36: Westing House Cook top Induction plate upgrade (eno, stove setup& gas refund) | F36: -250 | H36: =SUM(F36*G36) -> 0
B37: Accessories Total - transfered to Order form | H37: =SUM(H7:H36) -> 0

Sheet other options
A2: Item
A3: Alumium Sheet 3600x1500x1.6 | B3: 166.53
A4: Anderson Plug at front for external solar panel | B4: 140
A5: Anderson Plug for Supplied Travel Buddy | B5: 155
A6: Arm Chair Cascade $64.86 | B6: 99
A7: Awning Brackets | B7: 125
A8: basttery: Premium Upgrade to PP326 ( dble upgrade | B8: 2600
A9: Battery Monitor 100
A10: Battery Monitor 200
A11: Battery Monitor 400
A12: Battery: Comfort Upgrade to PP200L ( double upgrade) | B12: 2700
A13: Bench -Kitchen SS (longer) | B13: 175
A14: Box Lock for storage box | B14: 35
A15: Canvas Clear Top bag Lrg $13.86 | B15: 22
A16: Caravan steps adjustable legs $49.98 | B16: 80
A17: Caravan steps med $42.52 | B17: 65
A18: Change over sink, cooktop to new design with Eno stove (old camper) | B18: 1250
A19: Checker Plate 2.5mm | B19: 187
A20: Classic folding Table P$25.50 | B20: 45.95
A21: Coast RV matting 3.0 x 2.5m Paid $47.51 On web $ 90.75 | B21: 75
A22: Coast Rv Matting 4.5 x 2.5m Paid $61.08 On web $109.75 | B22: 90
A23: C-Pap Machine tray and USB point | B23: 160
A24: Door Alarm - retrofit | B24: 110
A25: Drawer -Extend SS Bench by 100mm | B25: 125 | E25: Engel 60L | F25: 1450
A26: Drawer Slide - 2nd locking slide Customer choice | B26: 150 | C26: 44743 | E26: Engel 75 L | F26: NO
A27: Drawer Slide repairs - replace with 2 locking slides (warranty) | B27: 105 | C27: 44743
A28: Drawer Slides 500 $47.90P /400 $ 450 $37.38 each | B28: 60
A29: Drawer Slides 800 $66.47 P /700 $46.20P /650 $46. P each | B29: 65
A30: Drawer Slides - owner to replace both for locking ( no Warranty) | C30: 44805
A31: Drawers x 2 in Tailgate Luggage Area | B31: 1200 | C31: 44803
A32: Drawer Double Locking Slides Upgrade ( each) _ | B32: 120
A33: ENO cook top upgrade for comfort camper Cooktop $ Labour & consumables ( Old camper) | C33: 45314
A34: Eno Stove change over price from old stove (in New camper only) | B34: 395
A35: Eno Stove cover Plate | B35: 225
A36: Fishing Rod Conpartment | B36: 225
A37: Food Containers Pop Up Blue - 3 pack $17.17 | B37: 28
A38: frame, water tank panel, roof sheets, folding etc | B38: 625
A39: Fridge - Fitting ( no straps) | B39: 95
A40: Fridge Build to suit Wider Fridge Inc CFX 85 (Models TB notified NE) | B40: 600
A41: Fridge Bushman - Drawer DF30-HD | B41: 1480
...

Sheet POD
A1: Tailgate Camper Pod
A2: 5950
A4: • size: L 1845mm 310mmWx955mmH
A5: • Profiled to camper
A6: • Tubular Frame aluminium construction
A7: • Powder coated
A8: • CentaFlex Hinge
A9: • 2 x Gas Struts for each Door
A10: • Matching Locks (2) keyed alike
A11: • Lighting on each door
A12: • Rubber Seal between pod/camper
A13: • Fully Welded Seams
A14: • Partition
A15: • Shelf RHS
... A23: Tyre Bracket LHS $200

Sheet Sheet1
A3: Alumium Sheet 3600x1500x1.6 | B3: 166.53
A4: Anderson Plug at front for external solar panel | B4: 140
A5: Anderson Plug for Supplied Travel Buddy | B5: 155
A6: Awning Brackets | B6: 125
A7: Battery Calb 326AH/Daly BMS with 2x 25Amp DC-DC Chargers, Battery charger IC25RV, Votronic 400S monitor | B7: 4650 | C7: 44713
A8: Battery 2 x 100s & 2 x 25L 2xdcdc ic25rv Votronic 400s | B8: 3250 | C8: 44805 | E8: Calb 325AH Lithium Battery Pack
A9: Battery Monitor 400s ( required with over 150 amp battery options) | B9: 475 | E9: inc Daly BMS, 2x 25L amp Projector DC-DC Charger
A10: Battery Charger 25A- IC25RV upgrade | B10: 150 | C10: 44805 | E10: Upgrade to 25A Battery Charger
A11: Battery Charger 25A- IC25RV - Cost $294.00 | B11: 450 | C11: 44805 | E11: 400S Battery Monitor
I12: 4650
E13: Battery Pack 1
E14: 2x100sAH | F14: Fusion Lithium Battery Pack ( inbuilt BMS)
A15: Box Lock for storage box | B15: 35 | E15: inc 2x 25L amp Projector DC-DC Charger
A16: Camper Special Build Width to 1975mm | B16: 1500 | E16: Upgrade to 25A Battery Charger
A17: Camper Special Build Length 1900 or 2000 | B17: 600 | E17: 400S Battery Monitor
A18: DC-Dc charger 45A | B18: 605 | I18: 3250
A19: Checker Plate 2.5mm | B19: 187
A20: C-Pap Machine tray | B20: 195
A21: Drawer -Extend SS Bench by 100mm | B21: 125 | D21: Option 1: (available 85l fridge which has a $700 charge for structural changes. There is no room for the Duoeto with this option.)
A22: Fridge Cross Bar replacement - with 2 new slides | B22: 220 | C22: 44774
A23: Fridge Cross Bar replacement - with 1 new slides | B23: 160 | C23: 44774 | D23: 326AH Calb Battery and 250A Daly BMS
A24: Fridge Cross Bar Replacement - warranty | B24: 100 | C24: 44774 | D24: Projecta 3000W Pure Sinewave Inverter ( mounted above the pantry drawers)
A25: Fridge Cross Bar (Locking) | B25: 35 | C25: 44805
A26: Drawer Slides 500/400 fitted each | B26: 100 | C26: 44805 | D26: Voltronic Battery Monitor | H26: 400s | J26: IC25RV
A27: Drawer Slides each 800 fitted | B27: 115 | C27: 44805 | D27: 2x25LA Projecta DC-Dc Chargers
A28: Drawer Slides 700/650 fitted each | B28: 105 | C28: 44805 | D28: $6500
A29: Drawers x 2 in Tailgate Luggage Area | B29: 1100 | C29: 44803
A30: Eno Stove | B30: 395 | D30: Option 2: (available only with 65l upright fridge only. Duoeto is available with this option)
A31: Fan 12v sirroco fan | B31: 280 down to 210 ( track)
A32: frame, water tank panel, roof sheets, folding etc | B32: 625 | D32: 326AH Calb Battery and 250A Daly BMS
A33: Fridge - Build to suit Higher Fridge | B33: 100 | D33: Projecta 3000W Pure Sinewave Inverter ( mounted above the pantry drawers)
A34: Fridge - Build to suit Longer Fridge | B34: 750 | D34: Votronic Battery Monitor | H34: 400S
A35: Fridge - Fitting ( no straps) | B35: 95 | D35: 2x25LA Projecta DC-Dc Chargers | I35: IC25RV
A36: Fridge Build to suit Wider Fridge Inc CFX 85 (Models TB notified NE) | B36: 600 | D36: Note: Duoeto is available with this option $6500 | E36: Engel 60L | F36: 1450
A37: Fridge CFXWaeco fridge ( up to 65 L inc 3 series) | B37: 600 | E37: Engel 75 L | F37: NO
A38: Fridge DC -upright fridge 85L Widen by 75 mm and changes to panel | B38: 700 | E38: 2nd pump
A39: Fridge DC -upright fridge. 65L - as no fridge slide and minimal changes(widen by 10mm) | B39: 0 | D39: Option 3: ( Available for both 65l and 85L upright fridge)
A40: Fridge Fitting - including straps | B40: 120 | D40: 200AH battery
A41: Fridge Straps | B41: 22 | D41: 2000W inverter | I41: IC25RV
A42: Fridge: Weight & Space Option - normal tool drawer | B42: 150 | C42: 44743 | D42: Votronic Battery Monitor | H42: 400S
...

Sheet weights
A1: Item | B1: kg
A2: Single Cab Camper | B2: 400
A3: Extra Cab Camper | B3: 390 | C3: 390
A4: Dual Cab Camper | B4: 380
A5: kitchen drawer | B5: 9 | C5: 9
A6: tool drawer | B6: 15.5 | C6: 15.5
A7: fishing rod storage | B7: 1 | N7: New weights 2024
A8: 2nd fridge slide | B8: 10 | C8: 10
A9: shelf above tool drawer | B9: 2.5 | C9: 2.5 | N9: DC Roof 59.5kg
A10: hide away safe | B10: 1 | G10: The Plush Innerspring mattress is 15.6 kg
G11: The ultimate Innerspring mattress is 21.5kg | N11: Toilet Slide 4.5
A12: slide out table | B12: 3 | C12: 3 | N12: Stove with drainer 10.5 (Eno)
A13: roof insulation | B13: 4 | C13: 4 | N13: Caddy 3.5
A14: bed extension | N14: Pantry 9
A15: bed head | B15: 1.2 | C15: 1.2 | F15: 2030 | G15: Foam | H15: 12.5 | K15: 10.5 | N15: Smarttek 7.5
A16: plush mattress | B16: 3.1 | F16: 2030 | G16: Plush | H16: 15.6 | I16: Ultimate | J16: 21.5 | K16: 23 | N16: Slide out table 2
A17: ultimate | B17: 9 | C17: 9 | G17: Plush Ex | I17: Ult Extra | J17: =SUM(J16-H15) -> 9 | K17: 27
A19: 185W Flexi solar panels x 2 | B19: 11.6 | C19: 11.6
A20: Stove frame new | B20: 4.1 | C20: 4.1 | G20: dc-dc 1.5
A21: Cooktop | G21: Mattresses | H21: 1875 | I21: 1950 | J21: 2030
A22: Battery monitor | B22: 0.5 | C22: 0.5 | G22: Foam | I22: 12 | J22: 12.5
A23: Joolca hottap | B23: 5.5 | G23: Plush | I23: 22 | J23: 15.6 | K23: 22.5
A24: Joolca hottap fitted | B24: 9 | G24: Ult Pillow | I24: 26
A25: reading lights x 2 | B25: 0.22 | C25: 0.22
A26: kitchen light | B26: 0.11 | C26: 0.11 | G26: Foam
A27: fan | B27: 1.5 | C27: 1.5 | G27: Plush
A28: socket single | B28: 0.6 | C28: 0.6 | G28: Ult Pillow | K28: 26
A29: socket double | B29: 0.11 | C29: 0.11
A30: submersible pump | B30: 0.5
A31: inverter 300 | B31: 2 | F31: (Normal foam underlay is 1.3 kg)
A32: inverter 600 | B32: 3.5
A33: Diesel heater | B33: 6.5 | C33: 10.5 | G33: AGM 130
A34: Lithium 100 | B34: -17 | G34: Lithium 100
A35: Lithium 140 | G35: Lithium 140 | M35: Travel Buddy | O35: 5.5
M36: quick | O36: 1.5
A37: plates | F37: new Hydronic heater/HW box setup | J37: 10.50kg | M37: howe ten t | O37: 3.5
A38: checker plate | M38: battery monitor | O38: 0.5
A39: firewood rack | B39: 4.5 | C39: 4.5 | F39: Pod
A40: maxtrax | B40: 3.6 | C40: 3.6
A41: garbage bag | B41: 0.89 | C41: 0.89 | H41: Bike rack | I41: 24kg
...

Sheet PC LIst
A2: Area | B2: Name | C2: NO | D2: Made | E2: In Trailer | F2: Returned | G2: Fitted
A3: Doors
B4: Door Frames | C4: 2
B5: Door skins | C5: 2
B6: Door Braces | C6: 2
A7: Drawers
B8: Pantry & Pot | C8: 2
B9: 2nd Pantry | C9: 1
B10: Tool | C10: 1
B11: Vertical Pantry | C11: 1
A12: Fridge
B13: Fridge Slide | C13: 1
B14: Fridge Tray | C14: 1
A15: Stove
B16: Stove | C16: 1
B17: Sink base | C17: 1
B18: drainer | C18: 1
B19: Drainer catch | C19: 1
B20: Gas hose mount | C20: 1
A21: Internal
B22: Internal Ladder | C22: 1
B23: Ladder Hoop | C23: 1
B24: Slide out Table | C24: 1
B25: Bed sheets | C25: 2
B26: Bed Extension DC
B27: Shelf - Removeable
A28: Tailgate
B29: Garbage track | C29: 2
B30: Rope track – tailgate | C30: 5
B31: Ropetrack - tailgate internal | C31: 2
B32: Ropetrack - wall 1 | C32: 1
A33: Roof
B34: Rope track - roof | C34: 3
B35: Solar Wind guard Flexi | C35: 215
B36: Standard Tent Frames
B37: Insulated Tent frames | C37: 1
A38: Fittings
B39: Electric Box | C39: 1
B40: Front Sheet - checkerplate
B41: Front Sheet if no checker plate | C41: 1
...

Sheet Pre Check PC
A1: Powder Coating pre check list - Dents - Scratches
A3: Date | B3: Camper | C3: No | D3: Before Check | E3: Signed | F3: Return check | G3: Signed | H3: Notes
B4: Horsford | C4: 172
B5: Keith | C5: 173
B6: Robinson | C6: 174
B7: Parker | C7: 175
B8: Pollock | C8: 176
B9: Holmberg | C9: 177
B10: Sullivan | C10: 178
B11: Tynan | C11: 179
B12: Spicer | C12: 180
B13: Adcock | C13: 181
B14: O'Rourke | C14: 182
B15: Cattermole | C15: 183
... B29: Worthy | C29: 197
B33: Check all welds
B34: Check all holes drilled
B35: No kerf on any welds/holes
B36: check for any scratches on all components
B37: No loose materials inside camper body

Sheet orders
B1: Sept | C1: Oct | D1: Dec | E1: Jan | F1: Feb | G1: Mar | H1: Nov
A2: Option List: Future Orders | B2: Hyland | C2: Noonan | D2: Rogers | E2: Northhausen | F2: Christie | G2: French | H2: Demo
A3: Internal
A4: Aluminium slide out kitchen storage drawer | C4: 1 | D4: 2 | H4: 1
A5: Large slide out aluminium tool drawer | B5: 1 | C5: 1 | D5: 1 | H5: 1
A6: 2nd tilting fridge slide | B6: 1 | C6: 0 | D6: 1 | H6: 1
A7: Fishing rod storage box | B7: 0 | C7: 0 | D7: 1
A8: Shelf above tool drawer | B8: 0 | C8: 1 | D8: 0 | H8: 0
A9: Tie down rails
A10: Deluxe HideAwaySafe | D10: 0 | H10: 0
A11: Tailgate | B11: 0 | C11: 0 | D11: 0 | H11: 0
A12: Slide out table | B12: 1 | C12: 1 | D12: 1 | H12: 1
A13: Shelf below internal ladder | B13: 0 | C13: 0
A14: Integrated tent roof insulation panels | B14: 1 | C14: 1
A15: Innerspring mattress Plush (140mm) 2030mm/1950mm | B15: 1 | C15: 0 | D15: 1 | H15: 0
A16: Innerspring mattress Ultimate P/Top,160mm) 2030mm/1950mm | B16: 0 | C16: 0 | D16: 0 | H16: 0
A17: Oates Drawers | B17: 2 | C17: 2 | H17: 1
A18: Deluxe HideAwaySafe | B18: 0
A19: External
A20: Firewood rack | B20: 1 | C20: 1 | D20: 1
A21: Mount for MaxTrax on Firewood rack | B21: 0 | D21: 0 | H21: 0
A22: Garbage bag | B22: 1 | C22: 1 | H22: 1
A23: 4kg gas bottle bracket | B23: 1 | C23: 0
A24: Ladder Handrail | B24: 1 | C24: 1 | H24: 1
A25: Front checker plate panel | B25: 0
A26: Battery Charger Access Port | B26: 1 | C26: 1 | H26: 1
A27: Fitting Fridge | B27: 1 | C27: 0 | D27: 0 | H27: 0
A28: Awning Options (see back) | C28: 0
A29: Electrical: | B29: 0 | C29: 0 | D29: 0 | H29: 0
A30: LED Bedroom reading lights (2) | B30: 1 | C30: 1 | D30: 1 | H30: 1
A31: LED strip light – Kitchen | B31: 1 | C31: 1 | D31: 0 | H31: 1
A32: Personal Fan | B32: 0 | C32: 0 | H32: 1
A33: Sockets Front Single - Accessory USB | B33: 0 | C33: 0 | D33: 1 | H33: 1
A34: Socket Rear Double - Acc &USB | B34: 0 | C34: 0 | D34: 1
A35: Submersible Water pump (12V) | B35: 0 | C35: 0 | D35: 0 | H35: 0
A36: Battery upgrade to 120ah | B36: 1 | C36: 1 | D36: 0 | H36: 1
A37: Battery Monitor upgrade | B37: 1 | C37: 1 | D37: 1
A38: DC-DC Charger (25amp) | B38: 1 | C38: 1 | D38: 1 | H38: 1
A39: Inverter: Pure Sinewave 300W | B39: 0 | C39: 0 | D39: 0 | H39: 0
A40: Inverter: Pure Sinewave 600W | B40: 0 | C40: 0 | D40: 0 | H40: 0
...
